BEGIN:VCALENDAR
VERSION:2.0
PRODID:-//Traverse Mobile CPR - ECPv5.16.2//NONSGML v1.0//EN
CALSCALE:GREGORIAN
METHOD:PUBLISH
X-WR-CALNAME:Traverse Mobile CPR
X-ORIGINAL-URL:https://traversemobilecpr.com
X-WR-CALDESC:Events for Traverse Mobile CPR
BEGIN:VTIMEZONE
TZID:America/Detroit
BEGIN:DAYLIGHT
TZOFFSETFROM:-0500
TZOFFSETTO:-0400
TZNAME:EDT
DTSTART:20190310T070000
END:DAYLIGHT
BEGIN:STANDARD
TZOFFSETFROM:-0400
TZOFFSETTO:-0500
TZNAME:EST
DTSTART:20191103T060000
END:STANDARD
END:VTIMEZONE
BEGIN:VEVENT
DTSTART;TZID=America/Detroit:20190116T040000
DTEND;TZID=America/Detroit:20190116T080000
DTSTAMP:20260423T191834
CREATED:20181215T042931Z
LAST-MODIFIED:20181215T042931Z
UID:248-1547611200-1547625600@traversemobilecpr.com
SUMMARY:BLS Healthcare Provider
DESCRIPTION:
URL:https://traversemobilecpr.com/class/bls-healthcare-provider-22/
END:VEVENT
END:VCALENDAR