BEGIN:VCALENDAR
VERSION:2.0
PRODID:-//Traverse Mobile CPR - ECPv5.16.2//NONSGML v1.0//EN
CALSCALE:GREGORIAN
METHOD:PUBLISH
X-WR-CALNAME:Traverse Mobile CPR
X-ORIGINAL-URL:https://traversemobilecpr.com
X-WR-CALDESC:Events for Traverse Mobile CPR
BEGIN:VTIMEZONE
TZID:America/Detroit
BEGIN:DAYLIGHT
TZOFFSETFROM:-0500
TZOFFSETTO:-0400
TZNAME:EDT
DTSTART:20200308T070000
END:DAYLIGHT
BEGIN:STANDARD
TZOFFSETFROM:-0400
TZOFFSETTO:-0500
TZNAME:EST
DTSTART:20201101T060000
END:STANDARD
END:VTIMEZONE
BEGIN:VEVENT
DTSTART;TZID=America/Detroit:20201027T170000
DTEND;TZID=America/Detroit:20201027T203000
DTSTAMP:20260424T085958
CREATED:20200921T153135Z
LAST-MODIFIED:20200921T153135Z
UID:1669-1603818000-1603830600@traversemobilecpr.com
SUMMARY:BLS Provider Class
DESCRIPTION:
URL:https://traversemobilecpr.com/class/bls-provider-class-187/
END:VEVENT
END:VCALENDAR