BEGIN:VCALENDAR
VERSION:2.0
PRODID:-//Traverse Mobile CPR - ECPv5.16.2//NONSGML v1.0//EN
CALSCALE:GREGORIAN
METHOD:PUBLISH
X-WR-CALNAME:Traverse Mobile CPR
X-ORIGINAL-URL:https://traversemobilecpr.com
X-WR-CALDESC:Events for Traverse Mobile CPR
BEGIN:VTIMEZONE
TZID:America/Detroit
BEGIN:DAYLIGHT
TZOFFSETFROM:-0500
TZOFFSETTO:-0400
TZNAME:EDT
DTSTART:20260308T070000
END:DAYLIGHT
BEGIN:STANDARD
TZOFFSETFROM:-0400
TZOFFSETTO:-0500
TZNAME:EST
DTSTART:20261101T060000
END:STANDARD
END:VTIMEZONE
BEGIN:VEVENT
DTSTART;TZID=America/Detroit:20260102T000000
DTEND;TZID=America/Detroit:20260102T000000
DTSTAMP:20260424T115813
CREATED:20251202T002330Z
LAST-MODIFIED:20251202T002330Z
UID:12709-1767312000-1767312000@traversemobilecpr.com
SUMMARY:Closed New Years Holiday!
DESCRIPTION:
URL:https://traversemobilecpr.com/class/closed-new-years-holiday-2/
END:VEVENT
END:VCALENDAR